BEGIN:VCALENDAR
VERSION:2.0
PRODID:--//Universal Cup//UCup Finals 2026//EN
METHOD:PUBLISH
NAME:The 2026 Universal Cup Finals
X-WR-CALNAME:The 2026 Universal Cup Finals
TIMEZONE-ID:Asia/Shanghai
X-WR-TIMEZONE:Asia/Shanghai
BEGIN:VEVENT
UID:ucup-finals-2026-may07-0@ucup.ac
SEQUENCE:0
DTSTAMP:20260419T165522
DTSTART;VALUE=DATE:20260507
X-MICROSOFT-CDO-ALLDAYEVENT:TRUE
X-MICROSOFT-MSNCALENDAR-ALLDAYEVENT:TRUE
SUMMARY:Arrival & Check-in
LOCATION:Amber House Lianqiu Lake\, Shanghai (上海练秋湖安朴酒店)
DESCRIPTION:08:00 – 22:00\nHuawei Lianqiu Lake R&D Center\, Shanghai\, C
 hina
STATUS:CONFIRMED
END:VEVENT
BEGIN:VEVENT
UID:ucup-finals-2026-may08-0@ucup.ac
SEQUENCE:0
DTSTAMP:20260419T165522
DTSTART;VALUE=DATE:20260508
X-MICROSOFT-CDO-ALLDAYEVENT:TRUE
X-MICROSOFT-MSNCALENDAR-ALLDAYEVENT:TRUE
SUMMARY:Arrival & Check-in
LOCATION:Amber House Lianqiu Lake\, Shanghai (上海练秋湖安朴酒店)
DESCRIPTION:08:00 – 20:00\nHuawei Lianqiu Lake R&D Center\, Shanghai\, C
 hina
STATUS:CONFIRMED
END:VEVENT
BEGIN:VEVENT
UID:ucup-finals-2026-may08-1@ucup.ac
SEQUENCE:0
DTSTAMP:20260419T165522
DTSTART;TZID=Asia/Shanghai:20260508T120000
DTEND;TZID=Asia/Shanghai:20260508T140000
SUMMARY:Buffet Lunch
LOCATION:Amber House Lianqiu Lake\, Shanghai (上海练秋湖安朴酒店)
DESCRIPTION:With meal coupon\nHuawei Lianqiu Lake R&D Center\, Shanghai\, 
 China
STATUS:CONFIRMED
END:VEVENT
BEGIN:VEVENT
UID:ucup-finals-2026-may08-2@ucup.ac
SEQUENCE:0
DTSTAMP:20260419T165522
DTSTART;TZID=Asia/Shanghai:20260508T140000
DTEND;TZID=Asia/Shanghai:20260508T153000
SUMMARY:Opening Ceremony & Huawei Academic Forum
LOCATION:Building F11\, Huawei Lianqiu Lake Campus\, Shanghai (华为上
 海练秋湖园区F11)
DESCRIPTION:Huawei Lianqiu Lake R&D Center\, Shanghai\, China
STATUS:CONFIRMED
END:VEVENT
BEGIN:VEVENT
UID:ucup-finals-2026-may08-3@ucup.ac
SEQUENCE:0
DTSTAMP:20260419T165522
DTSTART;TZID=Asia/Shanghai:20260508T160000
DTEND;TZID=Asia/Shanghai:20260508T173000
SUMMARY:Garden Party
LOCATION:Building F11\, Huawei Lianqiu Lake Campus\, Shanghai (华为上
 海练秋湖园区F11)
DESCRIPTION:Huawei Lianqiu Lake R&D Center\, Shanghai\, China
STATUS:CONFIRMED
END:VEVENT
BEGIN:VEVENT
UID:ucup-finals-2026-may08-4@ucup.ac
SEQUENCE:0
DTSTAMP:20260419T165522
DTSTART;TZID=Asia/Shanghai:20260508T173000
DTEND;TZID=Asia/Shanghai:20260508T183000
SUMMARY:Light Dinner
LOCATION:Starlight Café\, Building F12\, Huawei Lianqiu Lake Campus\, Sha
 nghai (华为上海练秋湖园区F12 星光咖啡厅)
DESCRIPTION:Huawei Lianqiu Lake R&D Center\, Shanghai\, China
STATUS:CONFIRMED
END:VEVENT
BEGIN:VEVENT
UID:ucup-finals-2026-may08-5@ucup.ac
SEQUENCE:0
DTSTAMP:20260419T165522
DTSTART;TZID=Asia/Shanghai:20260508T190000
DTEND;TZID=Asia/Shanghai:20260508T210000
SUMMARY:Icebreaker Party
LOCATION:Building F11\, Huawei Lianqiu Lake Campus\, Shanghai (华为上
 海练秋湖园区F11)
DESCRIPTION:Huawei Lianqiu Lake R&D Center\, Shanghai\, China
STATUS:CONFIRMED
END:VEVENT
BEGIN:VEVENT
UID:ucup-finals-2026-may09-0@ucup.ac
SEQUENCE:0
DTSTAMP:20260419T165522
DTSTART;TZID=Asia/Shanghai:20260509T100000
DTEND;TZID=Asia/Shanghai:20260509T110000
SUMMARY:Warm-up Contest & Machine Setup
LOCATION:Lianqiu Pavilion\, Building F1\, Huawei Lianqiu Lake Campus\, Sha
 nghai (华为上海练秋湖园区F1 练秋阁)
DESCRIPTION:Huawei Lianqiu Lake R&D Center\, Shanghai\, China
STATUS:CONFIRMED
END:VEVENT
BEGIN:VEVENT
UID:ucup-finals-2026-may09-1@ucup.ac
SEQUENCE:0
DTSTAMP:20260419T165522
DTSTART;TZID=Asia/Shanghai:20260509T110000
DTEND;TZID=Asia/Shanghai:20260509T120000
SUMMARY:Light Lunch
LOCATION:Lianqiu Pavilion\, Building F1\, Huawei Lianqiu Lake Campus\, Sha
 nghai (华为上海练秋湖园区F1 练秋阁)
DESCRIPTION:Huawei Lianqiu Lake R&D Center\, Shanghai\, China
STATUS:CONFIRMED
END:VEVENT
BEGIN:VEVENT
UID:ucup-finals-2026-may09-2@ucup.ac
SEQUENCE:0
DTSTAMP:20260419T165522
DTSTART;TZID=Asia/Shanghai:20260509T120000
DTEND;TZID=Asia/Shanghai:20260509T173000
SUMMARY:The 2026 Universal Cup Finals Challenge sponsored by Huawei
LOCATION:Lianqiu Pavilion\, Building F1\, Huawei Lianqiu Lake Campus\, Sha
 nghai (华为上海练秋湖园区F1 练秋阁)
DESCRIPTION:Huawei Lianqiu Lake R&D Center\, Shanghai\, China
STATUS:CONFIRMED
END:VEVENT
BEGIN:VEVENT
UID:ucup-finals-2026-may09-3@ucup.ac
SEQUENCE:0
DTSTAMP:20260419T165522
DTSTART;TZID=Asia/Shanghai:20260509T173000
DTEND;TZID=Asia/Shanghai:20260509T190000
SUMMARY:Buffet Dinner
LOCATION:Qiuhu Club\, Building A5\, Huawei Lianqiu Lake Campus\, Shanghai 
 (华为上海练秋湖园区A5 秋湖荟)
DESCRIPTION:Huawei Lianqiu Lake R&D Center\, Shanghai\, China
STATUS:CONFIRMED
END:VEVENT
BEGIN:VEVENT
UID:ucup-finals-2026-may09-4@ucup.ac
SEQUENCE:0
DTSTAMP:20260419T165522
DTSTART;TZID=Asia/Shanghai:20260509T193000
DTEND;TZID=Asia/Shanghai:20260509T210000
SUMMARY:Table Tennis' Night
LOCATION:Building G1\, Huawei Lianqiu Lake Campus\, Shanghai (华为上海
 练秋湖园区G1)
DESCRIPTION:Huawei Lianqiu Lake R&D Center\, Shanghai\, China
STATUS:CONFIRMED
END:VEVENT
BEGIN:VEVENT
UID:ucup-finals-2026-may09-5@ucup.ac
SEQUENCE:0
DTSTAMP:20260419T165522
DTSTART;TZID=Asia/Shanghai:20260509T193000
DTEND;TZID=Asia/Shanghai:20260509T210000
SUMMARY:Board Games & Card Games
LOCATION:Building G2\, Huawei Lianqiu Lake Campus\, Shanghai (华为上海
 练秋湖园区G2)
DESCRIPTION:Huawei Lianqiu Lake R&D Center\, Shanghai\, China
STATUS:CONFIRMED
END:VEVENT
BEGIN:VEVENT
UID:ucup-finals-2026-may10-0@ucup.ac
SEQUENCE:0
DTSTAMP:20260419T165522
DTSTART;TZID=Asia/Shanghai:20260510T100000
DTEND;TZID=Asia/Shanghai:20260510T163000
SUMMARY:The 2026 Universal Cup Finals
LOCATION:Lianqiu Pavilion\, Building F1\, Huawei Lianqiu Lake Campus\, Sha
 nghai (华为上海练秋湖园区F1 练秋阁)
DESCRIPTION:Light lunch served during contest\nHuawei Lianqiu Lake R&D Cen
 ter\, Shanghai\, China
STATUS:CONFIRMED
END:VEVENT
BEGIN:VEVENT
UID:ucup-finals-2026-may10-1@ucup.ac
SEQUENCE:0
DTSTAMP:20260419T165522
DTSTART;TZID=Asia/Shanghai:20260510T170000
DTEND;TZID=Asia/Shanghai:20260510T182000
SUMMARY:Campus & Exhibition Hall Tour
LOCATION:Huawei Lianqiu Lake Campus\, Shanghai (华为上海练秋湖园
 区)
DESCRIPTION:Huawei Lianqiu Lake R&D Center\, Shanghai\, China
STATUS:CONFIRMED
END:VEVENT
BEGIN:VEVENT
UID:ucup-finals-2026-may10-2@ucup.ac
SEQUENCE:0
DTSTAMP:20260419T165522
DTSTART;TZID=Asia/Shanghai:20260510T183000
DTEND;TZID=Asia/Shanghai:20260510T200000
SUMMARY:Buffet Dinner
LOCATION:Jingpu Club\, Building B9\, Huawei Lianqiu Lake Campus\, Shanghai
  (华为上海练秋湖园区B9 菁蒲荟)
DESCRIPTION:Huawei Lianqiu Lake R&D Center\, Shanghai\, China
STATUS:CONFIRMED
END:VEVENT
BEGIN:VEVENT
UID:ucup-finals-2026-may10-3@ucup.ac
SEQUENCE:0
DTSTAMP:20260419T165522
DTSTART;TZID=Asia/Shanghai:20260510T200000
DTEND;TZID=Asia/Shanghai:20260510T210000
SUMMARY:Video Game’s Night
LOCATION:Building G2\, Huawei Lianqiu Lake Campus\, Shanghai (华为上海
 练秋湖园区G2)
DESCRIPTION:Huawei Lianqiu Lake R&D Center\, Shanghai\, China
STATUS:CONFIRMED
END:VEVENT
BEGIN:VEVENT
UID:ucup-finals-2026-may11-0@ucup.ac
SEQUENCE:0
DTSTAMP:20260419T165522
DTSTART;TZID=Asia/Shanghai:20260511T100000
DTEND;TZID=Asia/Shanghai:20260511T120000
SUMMARY:The 2026 Universal Cup Conference for Competitive Programming
LOCATION:Building F11\, Huawei Lianqiu Lake Campus\, Shanghai (华为上
 海练秋湖园区F11)
DESCRIPTION:Huawei Lianqiu Lake R&D Center\, Shanghai\, China
STATUS:CONFIRMED
END:VEVENT
BEGIN:VEVENT
UID:ucup-finals-2026-may11-1@ucup.ac
SEQUENCE:0
DTSTAMP:20260419T165522
DTSTART;TZID=Asia/Shanghai:20260511T120000
DTEND;TZID=Asia/Shanghai:20260511T130000
SUMMARY:Lunch
LOCATION:Starlight Café\, Building F12\, Huawei Lianqiu Lake Campus\, Sha
 nghai (华为上海练秋湖园区F12 星光咖啡厅)
DESCRIPTION:Huawei Lianqiu Lake R&D Center\, Shanghai\, China
STATUS:CONFIRMED
END:VEVENT
BEGIN:VEVENT
UID:ucup-finals-2026-may11-2@ucup.ac
SEQUENCE:0
DTSTAMP:20260419T165522
DTSTART;TZID=Asia/Shanghai:20260511T133000
DTEND;TZID=Asia/Shanghai:20260511T150000
SUMMARY:Challenge Roadshow
LOCATION:Building F11\, Huawei Lianqiu Lake Campus\, Shanghai (华为上
 海练秋湖园区F11)
DESCRIPTION:We will invite the on-site top-ranked teams of the challenge t
 o share their problem-solving approaches.\nHuawei Lianqiu Lake R&D Center\
 , Shanghai\, China
STATUS:CONFIRMED
END:VEVENT
BEGIN:VEVENT
UID:ucup-finals-2026-may11-3@ucup.ac
SEQUENCE:0
DTSTAMP:20260419T165522
DTSTART;TZID=Asia/Shanghai:20260511T151500
DTEND;TZID=Asia/Shanghai:20260511T163000
SUMMARY:Closing & Award Ceremony
LOCATION:Building F11\, Huawei Lianqiu Lake Campus\, Shanghai (华为上
 海练秋湖园区F11)
DESCRIPTION:Huawei Lianqiu Lake R&D Center\, Shanghai\, China
STATUS:CONFIRMED
END:VEVENT
BEGIN:VEVENT
UID:ucup-finals-2026-may11-4@ucup.ac
SEQUENCE:0
DTSTAMP:20260419T165522
DTSTART;TZID=Asia/Shanghai:20260511T170000
DTEND;TZID=Asia/Shanghai:20260511T190000
SUMMARY:Banquet
LOCATION:Lianqiu Pavilion\, Building F1\, Huawei Lianqiu Lake Campus\, Sha
 nghai (华为上海练秋湖园区F1 练秋阁)
DESCRIPTION:Huawei Lianqiu Lake R&D Center\, Shanghai\, China
STATUS:CONFIRMED
END:VEVENT
BEGIN:VEVENT
UID:ucup-finals-2026-may12-0@ucup.ac
SEQUENCE:0
DTSTAMP:20260419T165522
DTSTART;VALUE=DATE:20260512
X-MICROSOFT-CDO-ALLDAYEVENT:TRUE
X-MICROSOFT-MSNCALENDAR-ALLDAYEVENT:TRUE
SUMMARY:Check-out & Departure
LOCATION:Amber House Lianqiu Lake\, Shanghai (上海练秋湖安朴酒店)
DESCRIPTION:Huawei Lianqiu Lake R&D Center\, Shanghai\, China
STATUS:CONFIRMED
END:VEVENT
END:VCALENDAR